BEGIN:VCALENDAR
VERSION:2.0
PRODID:-//Wing Chun United - ECPv6.15.17.1//NONSGML v1.0//EN
CALSCALE:GREGORIAN
METHOD:PUBLISH
X-ORIGINAL-URL:https://wingchununited.com
X-WR-CALDESC:Events for Wing Chun United
REFRESH-INTERVAL;VALUE=DURATION:PT1H
X-Robots-Tag:noindex
X-PUBLISHED-TTL:PT1H
BEGIN:VTIMEZONE
TZID:America/Toronto
BEGIN:DAYLIGHT
TZOFFSETFROM:-0500
TZOFFSETTO:-0400
TZNAME:EDT
DTSTART:20200308T070000
END:DAYLIGHT
BEGIN:STANDARD
TZOFFSETFROM:-0400
TZOFFSETTO:-0500
TZNAME:EST
DTSTART:20201101T060000
END:STANDARD
BEGIN:DAYLIGHT
TZOFFSETFROM:-0500
TZOFFSETTO:-0400
TZNAME:EDT
DTSTART:20210314T070000
END:DAYLIGHT
BEGIN:STANDARD
TZOFFSETFROM:-0400
TZOFFSETTO:-0500
TZNAME:EST
DTSTART:20211107T060000
END:STANDARD
BEGIN:DAYLIGHT
TZOFFSETFROM:-0500
TZOFFSETTO:-0400
TZNAME:EDT
DTSTART:20220313T070000
END:DAYLIGHT
BEGIN:STANDARD
TZOFFSETFROM:-0400
TZOFFSETTO:-0500
TZNAME:EST
DTSTART:20221106T060000
END:STANDARD
END:VTIMEZONE
BEGIN:VEVENT
DTSTART;TZID=America/Toronto:20210515T120000
DTEND;TZID=America/Toronto:20210522T130000
DTSTAMP:20260424T013726
CREATED:20210512T190320Z
LAST-MODIFIED:20210524T171050Z
UID:5585-1621080000-1621688400@wingchununited.com
SUMMARY:S3VT // Interactive Livestream Classes
DESCRIPTION:Every Saturday at 12pm.et/5pm.gmt\nThe edited version of the class with captions and other features will be uploaded for you with a private link that will be shared to subscribers.\nA specially tailored curriculum and training regimen designed to engage all practitioners of any discipline and lineage. Exploring the system from concept to construct getting you on your feet with drilling and exercises to put them\, and you\, to work. \n  \n\nClass elements //\n\nLivestreamed on a Private Stream Link at https://www.youtube.com/c/S3VTWSLVTToronto\nMultiple camera angles\nOn-screen participant interaction for review and refinement\nDesignated Q&A segment\nClasses will be recorded\, edited\, and uploaded with added on screen captions and elements to access for review at one’s repeated convenience or if you happen to miss a class\nFollow-up engagements in the comments sections of the uploads to keep the conversation and training going.\n\nThe Livestream Class Curriculum is based on the S3VT // WSLVT System Syllabus designed to explore the fundamental and finer points of the system evolving them to Simple\, Direct\, Efficient\, and Practical skills. Each class will be focused on a specific subject with attention to working the System\, the Science\, and developing the relative Skills. \nThere is plenty to work on individually and is equally important to train one’s skills sets independently as it is with a training partner. \nThere will also be designated classes with in-house partner drills demonstrated\, explored\, and explained. \n\nFeed your mind. Fuel your fist. \n\n\n\nSubscription Info //\n\n$15USD per class.\n$50USD per month.\nAccess to private\, secure uploads of the recorded classes with added content.\nPayPal : torontowslassociation@gmail.com\nPayments must be submitted by 10am.et/3pm.gmt\nThe Private Livestream Link will be shared to subscribers ahead of the classes\nPrivate Link uploads of classes shared\n\nBe sure to Follow S3VT at :\nFB :: facebook.com/S3VTWSLVT\nInstagram :: instagram.com/s3vtwslvt\nYouTube :: https://www.youtube.com/c/S3VTWSLVTToronto
URL:https://wingchununited.com/event/s3vt-interactive-livestream-classes-2/
CATEGORIES:Online Classes,Toronto Canada,Worldwide
ATTACH;FMTTYPE=image/jpeg:https://wingchununited.com/wp-content/uploads/2021/02/s3vt_classes.jpg
END:VEVENT
END:VCALENDAR